BEGIN:VCALENDAR
VERSION:2.0
PRODID:-//Tenderloin Community Benefit District - ECPv6.15.20//NONSGML v1.0//EN
CALSCALE:GREGORIAN
METHOD:PUBLISH
X-ORIGINAL-URL:https://tlcbd.org
X-WR-CALDESC:Events for Tenderloin Community Benefit District
REFRESH-INTERVAL;VALUE=DURATION:PT1H
X-Robots-Tag:noindex
X-PUBLISHED-TTL:PT1H
BEGIN:VTIMEZONE
TZID:America/Los_Angeles
BEGIN:DAYLIGHT
TZOFFSETFROM:-0800
TZOFFSETTO:-0700
TZNAME:PDT
DTSTART:20230312T100000
END:DAYLIGHT
BEGIN:STANDARD
TZOFFSETFROM:-0700
TZOFFSETTO:-0800
TZNAME:PST
DTSTART:20231105T090000
END:STANDARD
BEGIN:DAYLIGHT
TZOFFSETFROM:-0800
TZOFFSETTO:-0700
TZNAME:PDT
DTSTART:20240310T100000
END:DAYLIGHT
BEGIN:STANDARD
TZOFFSETFROM:-0700
TZOFFSETTO:-0800
TZNAME:PST
DTSTART:20241103T090000
END:STANDARD
BEGIN:DAYLIGHT
TZOFFSETFROM:-0800
TZOFFSETTO:-0700
TZNAME:PDT
DTSTART:20250309T100000
END:DAYLIGHT
BEGIN:STANDARD
TZOFFSETFROM:-0700
TZOFFSETTO:-0800
TZNAME:PST
DTSTART:20251102T090000
END:STANDARD
END:VTIMEZONE
BEGIN:VEVENT
DTSTART;TZID=America/Los_Angeles:20240303T120000
DTEND;TZID=America/Los_Angeles:20240303T130000
DTSTAMP:20260421T030311
CREATED:20240213T185317Z
LAST-MODIFIED:20240223T185828Z
UID:10000005-1709467200-1709470800@tlcbd.org
SUMMARY:Ramadan Food & Supplies
DESCRIPTION:Join Arab Women & Youth Voice celebrate the beginning of Ramadan while you learn about the foods and supplies consumed during this month of celebration. The workshop will be part of a bigger Ramadan celebration on the 500 block of Ellis. \n\n\n	Related
URL:https://tlcbd.org/event/ramadan-food-supplies/
CATEGORIES:Workshops
ATTACH;FMTTYPE=image/jpeg:https://tlcbd.org/wp-content/uploads/2024/02/awyc.jpg
END:VEVENT
END:VCALENDAR